BEGIN:VCALENDAR
VERSION:2.0
PRODID:-//Tukios.com/
BEGIN:VEVENT
UID:43fd2969-7b82-428a-acbc-0ac4937f6848@www.chamberlainhuckeriede.com
DTSTAMP:20260420T233243Z
DTSTART:20260502T150000Z
DTEND:20260502T170000Z
SUMMARY:Visitation
DESCRIPTION:
URL:https://www.chamberlainhuckeriede.com/obituaries/david-fee
LOCATION:Chamberlain-Huckeriede Funeral Home  920 North Cable Road  Lima 
	OH 45805
GEO:40.7533465;-84.1465394
END:VEVENT
END:VCALENDAR